BEGIN:VCALENDAR
VERSION:2.0
X-WR-CALNAME: Upcoming shows
PRODID:GIGPRESS 2.0 WORDPRESS PLUGIN
CALSCALE:GREGORIAN
X-WR-TIMEZONE:Etc/GMT
METHOD:PUBLISH
BEGIN:VTIMEZONE
TZID:GMT
BEGIN:STANDARD
DTSTART:20071028T010000
TZOFFSETTO:+0000
TZOFFSETFROM:+0000
END:STANDARD
END:VTIMEZONE
BEGIN:VEVENT
SUMMARY:Austin Rife at The Valley Tavern
DESCRIPTION:All Ages
LOCATION:The Valley Tavern\, 1 Cherry St\, Seven Valleys\, US
UID:20260425T190000Z-265-sdelp@caskeygroup.com
URL:https://austinrife.com
DTSTART;VALUE=DATE-TIME;TZID=GMT:20260425T190000Z
DTEND;VALUE=DATE-TIME;TZID=GMT:20260425T190000Z
DTSTAMP:20260421T081740Z
END:VEVENT
BEGIN:VEVENT
SUMMARY:Austin Rife at Cellar75 @ The Barn Resort
DESCRIPTION:All Ages
LOCATION:Cellar75 @ The Barn Resort\, 75 Cunningham Road\, Gettysburg\, US
UID:20260515T180000Z-284-sdelp@caskeygroup.com
URL:https://austinrife.com
DTSTART;VALUE=DATE-TIME;TZID=GMT:20260515T180000Z
DTEND;VALUE=DATE-TIME;TZID=GMT:20260515T180000Z
DTSTAMP:20260421T081740Z
END:VEVENT
BEGIN:VEVENT
SUMMARY:Austin Rife at Thousand Trails Gettysburg Farm
DESCRIPTION:All Ages
LOCATION:Thousand Trails Gettysburg Farm\, 6200 Big Mount Road\, Dover\, US
UID:20260516T180000Z-281-sdelp@caskeygroup.com
URL:https://austinrife.com
DTSTART;VALUE=DATE-TIME;TZID=GMT:20260516T180000Z
DTEND;VALUE=DATE-TIME;TZID=GMT:20260516T180000Z
DTSTAMP:20260421T081740Z
END:VEVENT
BEGIN:VEVENT
SUMMARY:Austin Rife at America 250th Celebration at Oakside Community Park
DESCRIPTION:All Ages
LOCATION:America 250th Celebration at Oakside Community Park\, 2880 Table Rock Rd\, Biglerville\, US
UID:20260613T173000Z-283-sdelp@caskeygroup.com
URL:https://austinrife.com
DTSTART;VALUE=DATE-TIME;TZID=GMT:20260613T173000Z
DTEND;VALUE=DATE-TIME;TZID=GMT:20260613T173000Z
DTSTAMP:20260421T081740Z
END:VEVENT
BEGIN:VEVENT
SUMMARY:Austin Rife at Blueberry Fest at Hollabaugh Brothers Market
DESCRIPTION:All Ages
LOCATION:Blueberry Fest at Hollabaugh Brothers Market\, 545 Carlisle Rd.\, Biglerville\, US
UID:20260711T123000Z-259-sdelp@caskeygroup.com
URL:https://austinrife.com
DTSTART;VALUE=DATE-TIME;TZID=GMT:20260711T123000Z
DTEND;VALUE=DATE-TIME;TZID=GMT:20260711T123000Z
DTSTAMP:20260421T081740Z
END:VEVENT
BEGIN:VEVENT
SUMMARY:Austin Rife at Blueberry Fest at Hollabaugh Brothers Market
DESCRIPTION:All Ages
LOCATION:Blueberry Fest at Hollabaugh Brothers Market\, 545 Carlisle Rd.\, Biglerville\, US
UID:20260712T123000Z-260-sdelp@caskeygroup.com
URL:https://austinrife.com
DTSTART;VALUE=DATE-TIME;TZID=GMT:20260712T123000Z
DTEND;VALUE=DATE-TIME;TZID=GMT:20260712T123000Z
DTSTAMP:20260421T081740Z
END:VEVENT
BEGIN:VEVENT
SUMMARY:Austin Rife at Jefferson Carnival
DESCRIPTION:All Ages
LOCATION:Jefferson Carnival\, 57 Hanover Street\, Codorus\, US
UID:20260715T190000Z-269-sdelp@caskeygroup.com
URL:https://austinrife.com
DTSTART;VALUE=DATE-TIME;TZID=GMT:20260715T190000Z
DTEND;VALUE=DATE-TIME;TZID=GMT:20260715T190000Z
DTSTAMP:20260421T081740Z
END:VEVENT
BEGIN:VEVENT
SUMMARY:Austin Rife at South Mountain Fair
DESCRIPTION:All Ages
LOCATION:South Mountain Fair\, 615 Narrows Rd\, Biglerville\, US
UID:20260723T190000Z-274-sdelp@caskeygroup.com
URL:https://austinrife.com
DTSTART;VALUE=DATE-TIME;TZID=GMT:20260723T190000Z
DTEND;VALUE=DATE-TIME;TZID=GMT:20260723T190000Z
DTSTAMP:20260421T081740Z
END:VEVENT
BEGIN:VEVENT
SUMMARY:Austin Rife at West Bay Park
DESCRIPTION:All Ages
LOCATION:West Bay Park\, 23719 Bayview Drive\, Lewes\, US
UID:20260725T190000Z-272-sdelp@caskeygroup.com
URL:https://austinrife.com
DTSTART;VALUE=DATE-TIME;TZID=GMT:20260725T190000Z
DTEND;VALUE=DATE-TIME;TZID=GMT:20260725T190000Z
DTSTAMP:20260421T081740Z
END:VEVENT
BEGIN:VEVENT
SUMMARY:Austin Rife at Saxton Sportsmen Association
DESCRIPTION:All Ages
LOCATION:Saxton Sportsmen Association\, 701 Main Street\, Saxton\, US
UID:20260801T190000Z-285-sdelp@caskeygroup.com
URL:https://austinrife.com
DTSTART;VALUE=DATE-TIME;TZID=GMT:20260801T190000Z
DTEND;VALUE=DATE-TIME;TZID=GMT:20260801T190000Z
DTSTAMP:20260421T081740Z
END:VEVENT
BEGIN:VEVENT
SUMMARY:Austin Rife at Wellsville Fire Company Carnival
DESCRIPTION:All Ages
LOCATION:Wellsville Fire Company Carnival\, 95 Community Street\, Wellsville\, US
UID:20260813T190000Z-273-sdelp@caskeygroup.com
URL:https://austinrife.com
DTSTART;VALUE=DATE-TIME;TZID=GMT:20260813T190000Z
DTEND;VALUE=DATE-TIME;TZID=GMT:20260813T190000Z
DTSTAMP:20260421T081740Z
END:VEVENT
BEGIN:VEVENT
SUMMARY:Austin Rife at The Valley Tavern
DESCRIPTION:All Ages
LOCATION:The Valley Tavern\, 1 Cherry St\, Seven Valleys\, US
UID:20260911T190000Z-268-sdelp@caskeygroup.com
URL:https://austinrife.com
DTSTART;VALUE=DATE-TIME;TZID=GMT:20260911T190000Z
DTEND;VALUE=DATE-TIME;TZID=GMT:20260911T190000Z
DTSTAMP:20260421T081740Z
END:VEVENT
BEGIN:VEVENT
SUMMARY:Austin Rife at Thousand Trails Gettysburg Farm
DESCRIPTION:All Ages
LOCATION:Thousand Trails Gettysburg Farm\, 6200 Big Mount Road\, Dover\, US
UID:20260912T180000Z-282-sdelp@caskeygroup.com
URL:https://austinrife.com
DTSTART;VALUE=DATE-TIME;TZID=GMT:20260912T180000Z
DTEND;VALUE=DATE-TIME;TZID=GMT:20260912T180000Z
DTSTAMP:20260421T081740Z
END:VEVENT
BEGIN:VEVENT
SUMMARY:Austin Rife at New Era Restaurant Bar & Motel
DESCRIPTION:All Ages
LOCATION:New Era Restaurant Bar & Motel\, 7415 Lincoln Hwy\, Abbottstown\, US
UID:20260918T200000Z-286-sdelp@caskeygroup.com
URL:https://austinrife.com
DTSTART;VALUE=DATE-TIME;TZID=GMT:20260918T200000Z
DTEND;VALUE=DATE-TIME;TZID=GMT:20260918T200000Z
DTSTAMP:20260421T081740Z
END:VEVENT
BEGIN:VEVENT
SUMMARY:Austin Rife at Hungry Run Distillery
DESCRIPTION:All Ages
LOCATION:Hungry Run Distillery\, 10 Ridens Road\, Lewistown\, US
UID:20260926T180000Z-280-sdelp@caskeygroup.com
URL:https://austinrife.com
DTSTART;VALUE=DATE-TIME;TZID=GMT:20260926T180000Z
DTEND;VALUE=DATE-TIME;TZID=GMT:20260926T180000Z
DTSTAMP:20260421T081740Z
END:VEVENT
BEGIN:VEVENT
SUMMARY:Austin Rife at McSherrystown Moose
DESCRIPTION:All Ages
LOCATION:McSherrystown Moose\, 534 South St\, McSherrystown\, US
UID:20261002T180000Z-276-sdelp@caskeygroup.com
URL:https://austinrife.com
DTSTART;VALUE=DATE-TIME;TZID=GMT:20261002T180000Z
DTEND;VALUE=DATE-TIME;TZID=GMT:20261002T180000Z
DTSTAMP:20260421T081740Z
END:VEVENT
BEGIN:VEVENT
SUMMARY:Austin Rife at Big Hill Cider Works
DESCRIPTION:All Ages
LOCATION:Big Hill Cider Works\, 338 Georgetown Rd\, Gardners\, US
UID:20261031T180000Z-278-sdelp@caskeygroup.com
URL:https://austinrife.com
DTSTART;VALUE=DATE-TIME;TZID=GMT:20261031T180000Z
DTEND;VALUE=DATE-TIME;TZID=GMT:20261031T180000Z
DTSTAMP:20260421T081740Z
END:VEVENT
BEGIN:VEVENT
SUMMARY:Austin Rife at Private Party
DESCRIPTION:All Ages
LOCATION:Private Party\, Carlisle\, US
UID:20261114T180000Z-271-sdelp@caskeygroup.com
URL:https://austinrife.com
DTSTART;VALUE=DATE-TIME;TZID=GMT:20261114T180000Z
DTEND;VALUE=DATE-TIME;TZID=GMT:20261114T180000Z
DTSTAMP:20260421T081740Z
END:VEVENT
BEGIN:VEVENT
SUMMARY:Austin Rife at The Valley Tavern
DESCRIPTION:All Ages
LOCATION:The Valley Tavern\, 1 Cherry St\, Seven Valleys\, US
UID:20261125T190000Z-266-sdelp@caskeygroup.com
URL:https://austinrife.com
DTSTART;VALUE=DATE-TIME;TZID=GMT:20261125T190000Z
DTEND;VALUE=DATE-TIME;TZID=GMT:20261125T190000Z
DTSTAMP:20260421T081740Z
END:VEVENT
END:VCALENDAR