BEGIN:VCALENDAR
VERSION:2.0
PRODID:GIGPRESS 2.0 WORDPRESS PLUGIN
CALSCALE:GREGORIAN
X-WR-TIMEZONE:Etc/GMT
METHOD:PUBLISH
BEGIN:VTIMEZONE
TZID:GMT
BEGIN:STANDARD
DTSTART:20071028T010000
TZOFFSETTO:+0000
TZOFFSETFROM:+0000
END:STANDARD
END:VTIMEZONE
BEGIN:VEVENT
SUMMARY:Austin Rife at McSherrystown Moose
DESCRIPTION:All Ages
LOCATION:McSherrystown Moose\, 534 South St\, McSherrystown\, US
UID:20261002T180000Z-276-sdelp@caskeygroup.com
URL:https://austinrife.com
DTSTART;VALUE=DATE-TIME;TZID=GMT:20261002T180000Z
DTEND;VALUE=DATE-TIME;TZID=GMT:20261002T180000Z
DTSTAMP:20260421T081922Z
END:VEVENT
END:VCALENDAR